BEGIN:VCALENDAR
VERSION:2.0
PRODID:-//Ziber2013/
CALSCALE:GREGORIAN
BEGIN:VEVENT
UID:246561@https://www.bvbockxmeerhoorn.nl
DTSTART:20260505T000000
DTEND:20260505T235959
SUMMARY:Bevrijdingsdag
DESCRIPTION:<p>Meivakantie</p>
LOCATION:Bernardus van Bockxmeer School\, Tweeboomlaan 104\, 1624 EH Hoorn
X-MICROSOFT-CDO-ALLDAYEVENT:TRUE
ATTACH;FMTTYPE=image/jpeg:/content/monsterGallery/NL/liberationday.png?width=1600&height=1200
SEQUENCE:0
DTSTAMP:20260422T164456
END:VEVENT
END:VCALENDAR
