BEGIN:VCALENDAR
VERSION:2.0
PRODID:-//Ziber2013/
CALSCALE:GREGORIAN
BEGIN:VEVENT
UID:246560@https://www.bvbockxmeerhoorn.nl
DTSTART:20260504T000000
DTEND:20260504T235959
SUMMARY:Dodenherdenking
DESCRIPTION:<p>Meivakantie</p>
LOCATION:Bernardus van Bockxmeer School\, Tweeboomlaan 104\, 1624 EH Hoorn
X-MICROSOFT-CDO-ALLDAYEVENT:TRUE
SEQUENCE:0
DTSTAMP:20260422T164459
END:VEVENT
END:VCALENDAR
