BEGIN:VCALENDAR
VERSION:2.0
PRODID:-//Ziber2013/
CALSCALE:GREGORIAN
BEGIN:VEVENT
UID:246557@https://www.bvbockxmeerhoorn.nl
DTSTART:20260510T000000
DTEND:20260510T235959
SUMMARY:Moederdag
DESCRIPTION:
LOCATION:Bernardus van Bockxmeer School\, Tweeboomlaan 104\, 1624 EH Hoorn
X-MICROSOFT-CDO-ALLDAYEVENT:TRUE
ATTACH;FMTTYPE=image/jpeg:/content/monsterGallery/mothersday.png?width=1600&height=1200
SEQUENCE:0
DTSTAMP:20260423T163312
END:VEVENT
END:VCALENDAR
